BEGIN:VCALENDAR
VERSION:2.0
PRODID:-//hacksw/handcal//NONSGML v1.0//EN
BEGIN:VEVENT
SUMMARY:Competition des Gavottes
UID:cdefe5e2-859b-456d-be7c-8099390caa2c
DTSTART:20260522T220000Z
DTEND:20260523T220000Z
LOCATION:Localisation   
CATEGORIES:Sportif
STATUS:
URL;VALUE=URI:https://asgolftremereuc.sportsregions.fr/evenements/2026/05/23/competition-des-gavottes-2436354
END:VEVENT
END:VCALENDAR
